BEGIN:VCALENDAR
VERSION:2.0
PRODID:-//IBA France - ECPv6.0.9//NONSGML v1.0//EN
CALSCALE:GREGORIAN
METHOD:PUBLISH
X-ORIGINAL-URL:https://international-budo-association-france.com
X-WR-CALDESC:évènements pour IBA France
REFRESH-INTERVAL;VALUE=DURATION:PT1H
X-Robots-Tag:noindex
X-PUBLISHED-TTL:PT1H
BEGIN:VTIMEZONE
TZID:Europe/Paris
BEGIN:DAYLIGHT
TZOFFSETFROM:+0100
TZOFFSETTO:+0200
TZNAME:CEST
DTSTART:20260329T010000
END:DAYLIGHT
BEGIN:STANDARD
TZOFFSETFROM:+0200
TZOFFSETTO:+0100
TZNAME:CET
DTSTART:20261025T010000
END:STANDARD
END:VTIMEZONE
BEGIN:VEVENT
DTSTART;VALUE=DATE:20260307
DTEND;VALUE=DATE:20260309
DTSTAMP:20260424T193013
CREATED:20260123T002405Z
LAST-MODIFIED:20260123T002425Z
UID:614-1772841600-1773014399@international-budo-association-france.com
SUMMARY:Self-Défense à CREUTZWALD avec Jean-Pierre VIGNAU
DESCRIPTION:
URL:https://international-budo-association-france.com/event/self-defense-a-creutzwald-avec-jean-pierre-vignau/
LOCATION:Gymnase di Siège 1\, rue de la ligne 9\, CREUTZWALD\, 57150
CATEGORIES:Jean-Pierre VIGNAU,Self-défense
ATTACH;FMTTYPE=image/jpeg:https://international-budo-association-france.com/wp-content/uploads/2026/01/07-et-08-mars-2026-Self-defense-a-Creutzwald.jpg
END:VEVENT
END:VCALENDAR