BEGIN:VCALENDAR
VERSION:2.0
PRODID:-//IBA France - ECPv6.0.9//NONSGML v1.0//EN
CALSCALE:GREGORIAN
METHOD:PUBLISH
X-ORIGINAL-URL:https://international-budo-association-france.com
X-WR-CALDESC:évènements pour IBA France
REFRESH-INTERVAL;VALUE=DURATION:PT1H
X-Robots-Tag:noindex
X-PUBLISHED-TTL:PT1H
BEGIN:VTIMEZONE
TZID:Europe/Paris
BEGIN:DAYLIGHT
TZOFFSETFROM:+0100
TZOFFSETTO:+0200
TZNAME:CEST
DTSTART:20220327T010000
END:DAYLIGHT
BEGIN:STANDARD
TZOFFSETFROM:+0200
TZOFFSETTO:+0100
TZNAME:CET
DTSTART:20221030T010000
END:STANDARD
END:VTIMEZONE
BEGIN:VEVENT
DTSTART;VALUE=DATE:20220725
DTEND;VALUE=DATE:20220806
DTSTAMP:20260424T015346
CREATED:20220207T005944Z
LAST-MODIFIED:20220207T010738Z
UID:239-1658707200-1659743999@international-budo-association-france.com
SUMMARY:Stage d'été Agde 2022
DESCRIPTION:
URL:https://international-budo-association-france.com/event/stag-dete-agde-2022/
LOCATION:Agde\, Plage de la Rochelongue\, Agde\, France
CATEGORIES:Stage
ATTACH;FMTTYPE=image/jpeg:https://international-budo-association-france.com/wp-content/uploads/2022/02/Agde-2022.jpg
END:VEVENT
END:VCALENDAR